BEGIN:VCALENDAR
VERSION:2.0
PRODID:-//School of Social Policy &amp; Practice - ECPv6.15.20//NONSGML v1.0//EN
CALSCALE:GREGORIAN
METHOD:PUBLISH
X-WR-CALNAME:School of Social Policy & Practice
X-ORIGINAL-URL:https://sp2.upenn.edu
X-WR-CALDESC:Events for School of Social Policy &amp; Practice
REFRESH-INTERVAL;VALUE=DURATION:PT1H
X-Robots-Tag:noindex
X-PUBLISHED-TTL:PT1H
BEGIN:VTIMEZONE
TZID:America/New_York
BEGIN:DAYLIGHT
TZOFFSETFROM:-0500
TZOFFSETTO:-0400
TZNAME:EDT
DTSTART:20230312T070000
END:DAYLIGHT
BEGIN:STANDARD
TZOFFSETFROM:-0400
TZOFFSETTO:-0500
TZNAME:EST
DTSTART:20231105T060000
END:STANDARD
BEGIN:DAYLIGHT
TZOFFSETFROM:-0500
TZOFFSETTO:-0400
TZNAME:EDT
DTSTART:20240310T070000
END:DAYLIGHT
BEGIN:STANDARD
TZOFFSETFROM:-0400
TZOFFSETTO:-0500
TZNAME:EST
DTSTART:20241103T060000
END:STANDARD
BEGIN:DAYLIGHT
TZOFFSETFROM:-0500
TZOFFSETTO:-0400
TZNAME:EDT
DTSTART:20250309T070000
END:DAYLIGHT
BEGIN:STANDARD
TZOFFSETFROM:-0400
TZOFFSETTO:-0500
TZNAME:EST
DTSTART:20251102T060000
END:STANDARD
END:VTIMEZONE
BEGIN:VEVENT
DTSTART;TZID=America/New_York:20240822T170000
DTEND;TZID=America/New_York:20240822T180000
DTSTAMP:20260422T225433
CREATED:20240621T145459Z
LAST-MODIFIED:20240621T145459Z
UID:10004865-1724346000-1724349600@sp2.upenn.edu
SUMMARY:NPL/MSSP Ice Cream Social
DESCRIPTION:Meet your fellow students and enjoy artisan cream & fruit bars provided by a local favorite\, Lil Pop Shop.
URL:https://sp2.upenn.edu/sp2-event/npl-mssp-ice-cream-social/
LOCATION:Caster Building – Lobby\, 3701 Locust Walk\, Philadelphia\, PA\, 19104\, United States
CATEGORIES:Subset of SP2 Community,Social/Networking,Students
GEO:39.9525194;-75.1975243
X-APPLE-STRUCTURED-LOCATION;VALUE=URI;X-ADDRESS=Caster Building – Lobby 3701 Locust Walk Philadelphia PA 19104 United States;X-APPLE-RADIUS=500;X-TITLE=3701 Locust Walk:geo:-75.1975243,39.9525194
END:VEVENT
BEGIN:VEVENT
DTSTART;TZID=America/New_York:20240822T173000
DTEND;TZID=America/New_York:20240822T200000
DTSTAMP:20260422T225433
CREATED:20240717T124310Z
LAST-MODIFIED:20240718T175848Z
UID:10004899-1724347800-1724356800@sp2.upenn.edu
SUMMARY:SP2 Welcome Back Summer Social
DESCRIPTION:We invite you to join us at Irie Entree for a Welcome Back event to celebrate the start of the 2024 Fall Semester!\nAlong with welcoming new and returning students and SP2 Alumni\, we’ll have food\, drinks\, a photo booth and a Live DJ! This event is free and is a part of the New Student Orientation events taking place during this week. \nPlease RSVP below! \nSP2 Welcome Back Summer Social\nIrie Entree\n4001 Chestnut Street | Phila\, PA 19104 \n530-8pm\nAt this event\, the School of Social Policy & Practice (SP2) may have a photographer\, a videographer\, or otherwise be recording or transmitting audio and/or video in the building. Your choice to remain in the area implies your consent to the use\, copyright\, publishing\, republishing\, distribution\, display and performance of the photographs\, videos\, recordings\, and transmissions in SP2-approved materials. \nREGISTER HERE! \n 
URL:https://sp2.upenn.edu/sp2-event/sp2-welcome-back-summer-social/
LOCATION:Irie Entrée\, 4001 Chestnut Street\, Philadelphia\, PA\, 19104\, United States
CATEGORIES:Social/Networking,Alumni,Students,SP2 Community
ATTACH;FMTTYPE=image/jpeg:https://sp2.upenn.edu/wp-content/uploads/2024/07/summer-social.2024-1.jpg
ORGANIZER;CN="Institutional Advancement":MAILTO:cbenyi@upenn.edu
END:VEVENT
END:VCALENDAR