BEGIN:VCALENDAR
VERSION:2.0
PRODID:-//School of Social Policy &amp; Practice - ECPv6.15.20//NONSGML v1.0//EN
CALSCALE:GREGORIAN
METHOD:PUBLISH
X-WR-CALNAME:School of Social Policy & Practice
X-ORIGINAL-URL:https://sp2.upenn.edu
X-WR-CALDESC:Events for School of Social Policy &amp; Practice
REFRESH-INTERVAL;VALUE=DURATION:PT1H
X-Robots-Tag:noindex
X-PUBLISHED-TTL:PT1H
BEGIN:VTIMEZONE
TZID:America/New_York
BEGIN:DAYLIGHT
TZOFFSETFROM:-0500
TZOFFSETTO:-0400
TZNAME:EDT
DTSTART:20230312T070000
END:DAYLIGHT
BEGIN:STANDARD
TZOFFSETFROM:-0400
TZOFFSETTO:-0500
TZNAME:EST
DTSTART:20231105T060000
END:STANDARD
BEGIN:DAYLIGHT
TZOFFSETFROM:-0500
TZOFFSETTO:-0400
TZNAME:EDT
DTSTART:20240310T070000
END:DAYLIGHT
BEGIN:STANDARD
TZOFFSETFROM:-0400
TZOFFSETTO:-0500
TZNAME:EST
DTSTART:20241103T060000
END:STANDARD
BEGIN:DAYLIGHT
TZOFFSETFROM:-0500
TZOFFSETTO:-0400
TZNAME:EDT
DTSTART:20250309T070000
END:DAYLIGHT
BEGIN:STANDARD
TZOFFSETFROM:-0400
TZOFFSETTO:-0500
TZNAME:EST
DTSTART:20251102T060000
END:STANDARD
END:VTIMEZONE
BEGIN:VEVENT
DTSTART;TZID=America/New_York:20240428T100000
DTEND;TZID=America/New_York:20240428T160000
DTSTAMP:20260423T201545
CREATED:20240403T154024Z
LAST-MODIFIED:20240403T154024Z
UID:10004827-1714298400-1714320000@sp2.upenn.edu
SUMMARY:NPL Student-Led Nonprofit Leadership Retreat
DESCRIPTION:NPL students will enjoy a spring day at the Morris Arboretum! Lunch will be provided. After soaking up the natural wonders of the arboretum\, participants will head over to Triple Bottom Brewery for some well-deserved relaxation. Each attendee will receive a drink ticket to enjoy their favorite beverage from the brewery’s selection.
URL:https://sp2.upenn.edu/sp2-event/npl-student-led-nonprofit-leadership-retreat/
LOCATION:Morris Arboretum
CATEGORIES:Social/Networking,Students
ORGANIZER;CN="NPL Program":MAILTO:adamsaks@upenn.edu
END:VEVENT
END:VCALENDAR