BEGIN:VCALENDAR
VERSION:2.0
PRODID:-//School of Social Policy &amp; Practice - ECPv6.15.20//NONSGML v1.0//EN
CALSCALE:GREGORIAN
METHOD:PUBLISH
X-ORIGINAL-URL:https://sp2.upenn.edu
X-WR-CALDESC:Events for School of Social Policy &amp; Practice
REFRESH-INTERVAL;VALUE=DURATION:PT1H
X-Robots-Tag:noindex
X-PUBLISHED-TTL:PT1H
BEGIN:VTIMEZONE
TZID:America/New_York
BEGIN:DAYLIGHT
TZOFFSETFROM:-0500
TZOFFSETTO:-0400
TZNAME:EDT
DTSTART:20250309T070000
END:DAYLIGHT
BEGIN:STANDARD
TZOFFSETFROM:-0400
TZOFFSETTO:-0500
TZNAME:EST
DTSTART:20251102T060000
END:STANDARD
BEGIN:DAYLIGHT
TZOFFSETFROM:-0500
TZOFFSETTO:-0400
TZNAME:EDT
DTSTART:20260308T070000
END:DAYLIGHT
BEGIN:STANDARD
TZOFFSETFROM:-0400
TZOFFSETTO:-0500
TZNAME:EST
DTSTART:20261101T060000
END:STANDARD
BEGIN:DAYLIGHT
TZOFFSETFROM:-0500
TZOFFSETTO:-0400
TZNAME:EDT
DTSTART:20270314T070000
END:DAYLIGHT
BEGIN:STANDARD
TZOFFSETFROM:-0400
TZOFFSETTO:-0500
TZNAME:EST
DTSTART:20271107T060000
END:STANDARD
END:VTIMEZONE
BEGIN:VEVENT
DTSTART;TZID=America/New_York:20260424T113000
DTEND;TZID=America/New_York:20260424T130000
DTSTAMP:20260420T184453
CREATED:20260327T001759Z
LAST-MODIFIED:20260327T001759Z
UID:10005265-1777030200-1777035600@sp2.upenn.edu
SUMMARY:Social Good in the Age of AI: Disruption & Possibility
DESCRIPTION:AI is creating disruption and possibility at the same time. How do we develop and adopt AI responsibly\, centering social good\, community voices\, and human connection? \nJoin Penn’s School of Social Policy & Practice for an afternoon exploring these critical questions through panel discussion\, student research presentations\, and hands-on demos. \n\nJoin us for refreshments\, student poster presentations\, and a panel discussion.\nPoster Session & Refreshments (11:30 AM – 12:00 PM)\nPanel Discussion (12:00 PM – 1:00 PM)\n\nModerator: \n\nAmy Castro\, Ph.D.\, Associate Professor\, SP2; Co-Founder and Faculty Director\, Center for Guaranteed Income Research (CGIR)\n\nPanelists: \n\nAviv Landau\, Ph.D.\, Research Assistant Professor\, SP2; Co-Director\, SAFElab\nIoana Marinescu\, Ph.D.\, Associate Professor\, Director of Master of Science in Social Policy Program (MSSP)\, SP2\nLucia Nazzaro\, Doctorate in Clinical Social Work (DSW) Student\, SP2; Penn AI Fellow\nNidhi Tandon\, M.S.\, M.Phil.\, Data Scientist\, Center for Guaranteed Income Research (CGIR)\n\nThis event is part of Penn AI Month 2026\, exploring Human-Centered AI across campus. \nRegister now!
URL:https://sp2.upenn.edu/sp2-event/social-good-in-the-age-of-ai-disruption-possibility/
LOCATION:Amy Gutmann Hall\, 3317 Chestnut Street\, Philadelphia\, 19104\, United States
CATEGORIES:Open to Public
ATTACH;FMTTYPE=image/jpeg:https://sp2.upenn.edu/wp-content/uploads/2026/03/4X3-HZ@2x.jpg
END:VEVENT
BEGIN:VEVENT
DTSTART;TZID=America/New_York:20260516T160000
DTEND;TZID=America/New_York:20260516T180000
DTSTAMP:20260420T184453
CREATED:20260326T144516Z
LAST-MODIFIED:20260330T173506Z
UID:10005262-1778947200-1778954400@sp2.upenn.edu
SUMMARY:SP2 Pre-Ceremony Reception
DESCRIPTION:For more information\, please visit: https://sp2.upenn.edu/graduation/
URL:https://sp2.upenn.edu/sp2-event/sp2-grad-reception-2026/
LOCATION:The Inn at Penn\, 3600 Sansom Street\, Philadelphia\, PA\, 19104\, United States
ATTACH;FMTTYPE=image/jpeg:https://sp2.upenn.edu/wp-content/uploads/2025/06/54538424966_543d1890c7_b.jpg
END:VEVENT
BEGIN:VEVENT
DTSTART;TZID=America/New_York:20260516T183000
DTEND;TZID=America/New_York:20260516T203000
DTSTAMP:20260420T184453
CREATED:20260325T142749Z
LAST-MODIFIED:20260326T144618Z
UID:10005261-1778956200-1778963400@sp2.upenn.edu
SUMMARY:SP2 Graduation Ceremony
DESCRIPTION:For more information\, please visit: https://sp2.upenn.edu/graduation/
URL:https://sp2.upenn.edu/sp2-event/sp2-graduation-ceremony-2026/
LOCATION:The Palestra\, 223 S. 33rd Street\, Philadelphia\, PA\, 19104\, United States
ATTACH;FMTTYPE=image/jpeg:https://sp2.upenn.edu/wp-content/uploads/2025/06/54538424966_543d1890c7_b.jpg
END:VEVENT
END:VCALENDAR