BEGIN:VCALENDAR
VERSION:2.0
PRODID:-//School of Social Policy &amp; Practice - ECPv6.15.20//NONSGML v1.0//EN
CALSCALE:GREGORIAN
METHOD:PUBLISH
X-ORIGINAL-URL:https://sp2.upenn.edu
X-WR-CALDESC:Events for School of Social Policy &amp; Practice
REFRESH-INTERVAL;VALUE=DURATION:PT1H
X-Robots-Tag:noindex
X-PUBLISHED-TTL:PT1H
BEGIN:VTIMEZONE
TZID:America/New_York
BEGIN:DAYLIGHT
TZOFFSETFROM:-0500
TZOFFSETTO:-0400
TZNAME:EDT
DTSTART:20230312T070000
END:DAYLIGHT
BEGIN:STANDARD
TZOFFSETFROM:-0400
TZOFFSETTO:-0500
TZNAME:EST
DTSTART:20231105T060000
END:STANDARD
BEGIN:DAYLIGHT
TZOFFSETFROM:-0500
TZOFFSETTO:-0400
TZNAME:EDT
DTSTART:20240310T070000
END:DAYLIGHT
BEGIN:STANDARD
TZOFFSETFROM:-0400
TZOFFSETTO:-0500
TZNAME:EST
DTSTART:20241103T060000
END:STANDARD
BEGIN:DAYLIGHT
TZOFFSETFROM:-0500
TZOFFSETTO:-0400
TZNAME:EDT
DTSTART:20250309T070000
END:DAYLIGHT
BEGIN:STANDARD
TZOFFSETFROM:-0400
TZOFFSETTO:-0500
TZNAME:EST
DTSTART:20251102T060000
END:STANDARD
END:VTIMEZONE
BEGIN:VEVENT
DTSTART;TZID=America/New_York:20241001T153000
DTEND;TZID=America/New_York:20241001T163000
DTSTAMP:20260424T011747
CREATED:20240821T170958Z
LAST-MODIFIED:20240821T170958Z
UID:10004946-1727796600-1727800200@sp2.upenn.edu
SUMMARY:Navigating the Transition to a Discussion-Based Classroom
DESCRIPTION:This event is intended to support SP2 international students in transitioning to a discussion-based classroom\, with an emphasis on maintaining inner peace and comfort.
URL:https://sp2.upenn.edu/sp2-event/navigating-the-transition-to-a-discussion-based-classroom/
LOCATION:TBA
CATEGORIES:Students
ORGANIZER;CN="NPL Program":MAILTO:adamsaks@upenn.edu
END:VEVENT
BEGIN:VEVENT
DTSTART;TZID=America/New_York:20240920T093000
DTEND;TZID=America/New_York:20240920T113000
DTSTAMP:20260424T011747
CREATED:20240703T135001Z
LAST-MODIFIED:20240703T135001Z
UID:10004885-1726824600-1726831800@sp2.upenn.edu
SUMMARY:SIFI Welcome Breakfast with the MSW Practicum Office
DESCRIPTION:We are looking forward to welcoming you to the SIFI Seminar!
URL:https://sp2.upenn.edu/sp2-event/sifi-welcome-breakfast-with-the-msw-practicum-office/
LOCATION:TBA
CATEGORIES:Subset of SP2 Community
ORGANIZER;CN="MSW Program":MAILTO:mtle@upenn.edu
END:VEVENT
BEGIN:VEVENT
DTSTART;TZID=America/New_York:20240911T143000
DTEND;TZID=America/New_York:20240911T153000
DTSTAMP:20260424T011747
CREATED:20240828T110230Z
LAST-MODIFIED:20240828T110230Z
UID:10004949-1726065000-1726068600@sp2.upenn.edu
SUMMARY:Making the Most of MSW Supervision
DESCRIPTION:Practicum Education is the cornerstone of MSW education\, making the relationship between student and supervisor a critical one. Because of that\, this relationship and process deserves special attention. Please join Darla Spence Coffey\, SP2 Senior Leadership Fellow and former President/CEO of the Council on Social Work Education to discuss this important relationship and process.
URL:https://sp2.upenn.edu/sp2-event/making-the-most-of-msw-supervision/
LOCATION:Caster Building – Room 309/310\, 3701 Locust Walk\, Philadelphia\, PA\, 19104\, United States
CATEGORIES:Subset of SP2 Community,Conference/Workshop,Students
ORGANIZER;CN="MSW Program":MAILTO:mtle@upenn.edu
GEO:39.9525194;-75.1975243
X-APPLE-STRUCTURED-LOCATION;VALUE=URI;X-ADDRESS=Caster Building – Room 309/310 3701 Locust Walk Philadelphia PA 19104 United States;X-APPLE-RADIUS=500;X-TITLE=3701 Locust Walk:geo:-75.1975243,39.9525194
END:VEVENT
BEGIN:VEVENT
DTSTART;TZID=America/New_York:20240906T100000
DTEND;TZID=America/New_York:20240906T130000
DTSTAMP:20260424T011747
CREATED:20240709T174526Z
LAST-MODIFIED:20240709T174526Z
UID:10004889-1725616800-1725627600@sp2.upenn.edu
SUMMARY:MSW Liaison Welcome & Orientation
DESCRIPTION:We are looking forward to welcoming our liaisons for the 2024 to 2025 academic year!
URL:https://sp2.upenn.edu/sp2-event/msw-liaison-welcome-orientation/
LOCATION:Caster Building – Room 311\, 3701 Locust Walk\, Philadelphia\, PA\, 19104\, United States
CATEGORIES:Subset of SP2 Community
ORGANIZER;CN="MSW Program":MAILTO:mtle@upenn.edu
END:VEVENT
BEGIN:VEVENT
DTSTART;VALUE=DATE:20240830
DTEND;VALUE=DATE:20240831
DTSTAMP:20260424T011747
CREATED:20240719T181155Z
LAST-MODIFIED:20240719T181155Z
UID:10004913-1724976000-1725062399@sp2.upenn.edu
SUMMARY:MSW Foundation Year Practicum Orientation
DESCRIPTION:We are looking forward to a wonderful practicum orientation for our foundation year MSW students!
URL:https://sp2.upenn.edu/sp2-event/msw-foundation-year-practicum-orientation-2/
LOCATION:TBA
CATEGORIES:Students
ORGANIZER;CN="MSW Program":MAILTO:mtle@upenn.edu
END:VEVENT
BEGIN:VEVENT
DTSTART;VALUE=DATE:20240829
DTEND;VALUE=DATE:20240830
DTSTAMP:20260424T011747
CREATED:20240712T142313Z
LAST-MODIFIED:20240712T154907Z
UID:10004897-1724889600-1724975999@sp2.upenn.edu
SUMMARY:MSW Foundation Year Practicum Orientation
DESCRIPTION:We are looking forward to a wonderful practicum orientation for our foundation year MSW students!
URL:https://sp2.upenn.edu/sp2-event/msw-foundation-year-practicum-orientation/
LOCATION:TBA
CATEGORIES:Subset of SP2 Community
ORGANIZER;CN="MSW Program":MAILTO:mtle@upenn.edu
END:VEVENT
BEGIN:VEVENT
DTSTART;VALUE=DATE:20240827
DTEND;VALUE=DATE:20240828
DTSTAMP:20260424T011747
CREATED:20240712T142154Z
LAST-MODIFIED:20240712T154925Z
UID:10004896-1724716800-1724803199@sp2.upenn.edu
SUMMARY:MSW Advanced Year Practicum Orientation
DESCRIPTION:We are looking forward to a wonderful practicum orientation for our advanced year MSW students!
URL:https://sp2.upenn.edu/sp2-event/msw-advanced-year-practicum-orientation/
LOCATION:TBA
CATEGORIES:Subset of SP2 Community
ORGANIZER;CN="MSW Program":MAILTO:mtle@upenn.edu
END:VEVENT
BEGIN:VEVENT
DTSTART;TZID=America/New_York:20240826T100000
DTEND;TZID=America/New_York:20240826T120000
DTSTAMP:20260424T011747
CREATED:20240703T134832Z
LAST-MODIFIED:20240703T134832Z
UID:10004884-1724666400-1724673600@sp2.upenn.edu
SUMMARY:MSW New Student Orientation
DESCRIPTION:We are looking forward to welcoming you to the MSW Program!
URL:https://sp2.upenn.edu/sp2-event/msw-new-student-orientation/
LOCATION:The Inn at Penn\, 3600 Sansom Street\, Philadelphia\, PA\, 19104\, United States
CATEGORIES:Subset of SP2 Community
ORGANIZER;CN="MSW Program":MAILTO:mtle@upenn.edu
END:VEVENT
BEGIN:VEVENT
DTSTART;VALUE=DATE:20240805
DTEND;VALUE=DATE:20240810
DTSTAMP:20260424T011747
CREATED:20240725T021805Z
LAST-MODIFIED:20240725T021805Z
UID:10004916-1722816000-1723247999@sp2.upenn.edu
SUMMARY:Waiver Exam for SWRK 6010 & SWRK 6020
DESCRIPTION:MSW students are eligible to take waiver examinations for SWRK 6010: History and Philosophy of Social Work and Social Welfare and SWRK 6020: Human Behavior in the Social Environment. These waiver exams offer students the opportunity to demonstrate their mastery of material covered in these foundation courses. The waiver exams are available online through Canvas\, and may be taken at any time during the exam window (August 5 to August 9\, 2024).
URL:https://sp2.upenn.edu/sp2-event/waiver-exam-for-swrk-6010-swrk-6020-2/
LOCATION:Online
CATEGORIES:Subset of SP2 Community,Students
ORGANIZER;CN="MSW Program":MAILTO:mtle@upenn.edu
END:VEVENT
BEGIN:VEVENT
DTSTART;TZID=America/New_York:20240801T090000
DTEND;TZID=America/New_York:20240801T110000
DTSTAMP:20260424T011747
CREATED:20240711T203018Z
LAST-MODIFIED:20240711T203018Z
UID:10004894-1722502800-1722510000@sp2.upenn.edu
SUMMARY:MSW Advanced Standing Practicum Breakfast
DESCRIPTION:We are looking forward to discussing the advanced clinical and advanced macro practice classes!
URL:https://sp2.upenn.edu/sp2-event/msw-advanced-standing-practicum-breakfast/
LOCATION:Caster Building – Room 311\, 3701 Locust Walk\, Philadelphia\, PA\, 19104\, United States
CATEGORIES:Subset of SP2 Community
ORGANIZER;CN="MSW Program":MAILTO:mtle@upenn.edu
END:VEVENT
BEGIN:VEVENT
DTSTART;TZID=America/New_York:20240718T100000
DTEND;TZID=America/New_York:20240718T110000
DTSTAMP:20260424T011747
CREATED:20240703T135201Z
LAST-MODIFIED:20240703T135201Z
UID:10004886-1721296800-1721300400@sp2.upenn.edu
SUMMARY:MSW Academic Advising Coffee Chat
DESCRIPTION:Meet your academic advisors and learn how to partner with them to make the most of your time at Penn!
URL:https://sp2.upenn.edu/sp2-event/msw-academic-advising-coffee-chat/
LOCATION:Virtual
CATEGORIES:Subset of SP2 Community,Available Virtually
ORGANIZER;CN="MSW Program":MAILTO:mtle@upenn.edu
END:VEVENT
BEGIN:VEVENT
DTSTART;TZID=America/New_York:20240701T100000
DTEND;TZID=America/New_York:20240701T130000
DTSTAMP:20260424T011747
CREATED:20240322T151738Z
LAST-MODIFIED:20240322T151738Z
UID:10004814-1719828000-1719838800@sp2.upenn.edu
SUMMARY:Advanced Standing Orientation
DESCRIPTION:Orientation for the Advanced Standing cohort!
URL:https://sp2.upenn.edu/sp2-event/advanced-standing-orientation/
LOCATION:TBA
CATEGORIES:Students
ORGANIZER;CN="MSW Program":MAILTO:mtle@upenn.edu
END:VEVENT
BEGIN:VEVENT
DTSTART;TZID=America/New_York:20240601T090000
DTEND;TZID=America/New_York:20240601T110000
DTSTAMP:20260424T011747
CREATED:20240103T174422Z
LAST-MODIFIED:20240103T174422Z
UID:10004744-1717232400-1717239600@sp2.upenn.edu
SUMMARY:MSW Licensure Seminar
DESCRIPTION:Final summary and ending
URL:https://sp2.upenn.edu/sp2-event/msw-licensure-seminar-12/
LOCATION:Online
CATEGORIES:Speaker/Presentation,Students,Available Virtually
ORGANIZER;CN="MSW Program":MAILTO:mtle@upenn.edu
END:VEVENT
BEGIN:VEVENT
DTSTART;TZID=America/New_York:20240516T100000
DTEND;TZID=America/New_York:20240516T133000
DTSTAMP:20260424T011747
CREATED:20240403T154344Z
LAST-MODIFIED:20240403T154344Z
UID:10004829-1715853600-1715866200@sp2.upenn.edu
SUMMARY:SP2 Partnership Appreciation: End of Year Celebration
DESCRIPTION:SP2 master’s programs and members of the community will come together to reflect on accomplishments\, contributions\, and connections over the past year.
URL:https://sp2.upenn.edu/sp2-event/sp2-partnership-appreciation-end-of-year-celebration/
LOCATION:Caster Building Courtyard
CATEGORIES:Students,SP2 Community
END:VEVENT
BEGIN:VEVENT
DTSTART;TZID=America/New_York:20240515T170000
DTEND;TZID=America/New_York:20240515T190000
DTSTAMP:20260424T011747
CREATED:20240103T174352Z
LAST-MODIFIED:20240103T174352Z
UID:10004743-1715792400-1715799600@sp2.upenn.edu
SUMMARY:MSW Licensure Seminar
DESCRIPTION:TBD: Either repeat of study strategies or reflections of a stumped test-taker
URL:https://sp2.upenn.edu/sp2-event/msw-licensure-seminar-11/
LOCATION:Online
CATEGORIES:Speaker/Presentation,Students,Available Virtually
ORGANIZER;CN="MSW Program":MAILTO:mtle@upenn.edu
END:VEVENT
BEGIN:VEVENT
DTSTART;TZID=America/New_York:20240504T090000
DTEND;TZID=America/New_York:20240504T110000
DTSTAMP:20260424T011747
CREATED:20240103T174329Z
LAST-MODIFIED:20240103T174329Z
UID:10004742-1714813200-1714820400@sp2.upenn.edu
SUMMARY:MSW Licensure Seminar
DESCRIPTION:Overthinking and its relationship to imposter syndrome and inequity
URL:https://sp2.upenn.edu/sp2-event/msw-licensure-seminar-10/
LOCATION:Online
CATEGORIES:Speaker/Presentation,Students,Available Virtually
ORGANIZER;CN="MSW Program":MAILTO:mtle@upenn.edu
END:VEVENT
BEGIN:VEVENT
DTSTART;TZID=America/New_York:20240425T183000
DTEND;TZID=America/New_York:20240425T200000
DTSTAMP:20260424T011747
CREATED:20240417T183021Z
LAST-MODIFIED:20240417T183021Z
UID:10004842-1714069800-1714075200@sp2.upenn.edu
SUMMARY:SP2 Mock Interviews
DESCRIPTION:Join us for an interactive SP2 Mock Interview Event designed to equip both current students gearing up for job interviews and incoming students preparing for practicum interviews. During this workshop\, participants will have the opportunity to engage in simulated interview sessions. Our facilitators will provide constructive feedback and valuable insights to help refine interview techniques\, enhance communication skills\, and master the art of presenting oneself effectively to potential employers.
URL:https://sp2.upenn.edu/sp2-event/sp2-mock-interviews/
LOCATION:Virtual
CATEGORIES:SP2 Community
END:VEVENT
END:VCALENDAR